BEGIN:VCALENDAR
VERSION:2.0
PRODID:-//Melanie Smith Taylor - ECPv6.2.9//NONSGML v1.0//EN
CALSCALE:GREGORIAN
METHOD:PUBLISH
X-WR-CALNAME:Melanie Smith Taylor
X-ORIGINAL-URL:https://melaniesmithtaylor.com
X-WR-CALDESC:Events for Melanie Smith Taylor
REFRESH-INTERVAL;VALUE=DURATION:PT1H
X-Robots-Tag:noindex
X-PUBLISHED-TTL:PT1H
BEGIN:VTIMEZONE
TZID:America/Chicago
BEGIN:DAYLIGHT
TZOFFSETFROM:-0600
TZOFFSETTO:-0500
TZNAME:CDT
DTSTART:20160313T080000
END:DAYLIGHT
BEGIN:STANDARD
TZOFFSETFROM:-0500
TZOFFSETTO:-0600
TZNAME:CST
DTSTART:20161106T070000
END:STANDARD
TZID:America/New_York
BEGIN:DAYLIGHT
TZOFFSETFROM:-0500
TZOFFSETTO:-0400
TZNAME:EDT
DTSTART:20160313T070000
END:DAYLIGHT
BEGIN:STANDARD
TZOFFSETFROM:-0400
TZOFFSETTO:-0500
TZNAME:EST
DTSTART:20161106T060000
END:STANDARD
TZID:UTC
BEGIN:STANDARD
TZOFFSETFROM:+0000
TZOFFSETTO:+0000
TZNAME:UTC
DTSTART:20160101T000000
END:STANDARD
TZID:America/Los_Angeles
BEGIN:DAYLIGHT
TZOFFSETFROM:-0800
TZOFFSETTO:-0700
TZNAME:PDT
DTSTART:20160313T100000
END:DAYLIGHT
BEGIN:STANDARD
TZOFFSETFROM:-0700
TZOFFSETTO:-0800
TZNAME:PST
DTSTART:20161106T090000
END:STANDARD
END:VTIMEZONE
BEGIN:VEVENT
DTSTART;VALUE=DATE:20161022
DTEND;VALUE=DATE:20161024
DTSTAMP:20260421T043045
CREATED:20160622T042057Z
LAST-MODIFIED:20160622T042057Z
UID:13527-1477094400-1477267199@melaniesmithtaylor.com
SUMMARY:Melanie Smith Taylor Clinic - Portland\, Oregon
DESCRIPTION:
URL:https://melaniesmithtaylor.com/calendar-2/melanie-smith-taylor-clinic-portland-oregon-2/
LOCATION:Brawley Farms Inc.\, 4556 Wintercreek Rd SE\, Jefferson\, OR\, 97352\, United States
ORGANIZER;CN="Debbie Brawley":MAILTO:dbrawley1962@yahoo.com
END:VEVENT
BEGIN:VEVENT
DTSTART;TZID=America/New_York:20161016T133000
DTEND;TZID=America/New_York:20161016T150000
DTSTAMP:20260421T043045
CREATED:20161002T215042Z
LAST-MODIFIED:20161002T215042Z
UID:13746-1476624600-1476630000@melaniesmithtaylor.com
SUMMARY:Longines FEI World Cup™ Jumping NAL qualifier - airing on NBC Sports
DESCRIPTION:Melanie’s commentary on the FEI World Cup Jumping NAL qualifier at the American Gold Cup held on September 18th airs on NBC Sports October 16th at 1:30 PM Eastern Time.
URL:https://melaniesmithtaylor.com/calendar-2/longines-fei-world-cup-jumping-nal-qualifier-airing-on-nbc-sports/
LOCATION:NBC Sports
END:VEVENT
BEGIN:VEVENT
DTSTART;VALUE=DATE:20161009
DTEND;VALUE=DATE:20161011
DTSTAMP:20260421T043045
CREATED:20160401T152802Z
LAST-MODIFIED:20160401T152802Z
UID:13506-1475971200-1476143999@melaniesmithtaylor.com
SUMMARY:Melanie Smith Taylor Clinic - Westerville\, Ohio
DESCRIPTION:IEA CORE clinic at Otterbein University
URL:https://melaniesmithtaylor.com/calendar-2/melanie-smith-taylor-clinic-westerville-ohio/
LOCATION:Otterbein University\, 1 S Grove St.\, Westerville\, OH\, 43081\, United States
ATTACH;FMTTYPE=image/jpeg:https://melaniesmithtaylor.com/wp-content/uploads/2016/04/Otterbein.jpg
ORGANIZER;CN="Lindsay Yinger":MAILTO:Lnyinger@gmail.com
END:VEVENT
BEGIN:VEVENT
DTSTART;VALUE=DATE:20161001
DTEND;VALUE=DATE:20161003
DTSTAMP:20260421T043045
CREATED:20160622T042914Z
LAST-MODIFIED:20160622T044151Z
UID:13528-1475280000-1475452799@melaniesmithtaylor.com
SUMMARY:Melanie Smith Taylor Clinic - North Plains\, Oregon
DESCRIPTION:
URL:https://melaniesmithtaylor.com/calendar-2/melanie-smith-taylor-clinic-north-plains-oregon/
LOCATION:Creekside Show Stable & Riding Academy\, 14300 NW Old Pumpkin Ridge Road\, North Plains\, OR\, 97133\, United States
CATEGORIES:Equestrian Clinics
ATTACH;FMTTYPE=image/jpeg:https://melaniesmithtaylor.com/wp-content/uploads/2016/06/Creekside.jpg
END:VEVENT
BEGIN:VEVENT
DTSTART;VALUE=DATE:20160923
DTEND;VALUE=DATE:20160924
DTSTAMP:20260421T043045
CREATED:20160719T022244Z
LAST-MODIFIED:20160719T022804Z
UID:13540-1474588800-1474675199@melaniesmithtaylor.com
SUMMARY:Rolex Central Park Horse Show - Color Commentary
DESCRIPTION:Color Commentary for the U.S. Open $216\,000 GRAND PRIX CSI 3* – Airing on NBC Sept 25 10:30PM EDT
URL:https://melaniesmithtaylor.com/calendar-2/rolex-central-park-horse-show-color-commentary/
LOCATION:NBC
END:VEVENT
BEGIN:VEVENT
DTSTART;VALUE=DATE:20160918
DTEND;VALUE=DATE:20160919
DTSTAMP:20260421T043045
CREATED:20160719T020640Z
LAST-MODIFIED:20160719T023548Z
UID:13538-1474156800-1474243199@melaniesmithtaylor.com
SUMMARY:American Gold Cup - Color Commentary
DESCRIPTION:Color Commentary for the Longines FEI World Cup Jumping  New York – CSI 4* – Airing on NBC September 19th
URL:https://melaniesmithtaylor.com/calendar-2/american-gold-cup-color-commentary/
LOCATION:NBC
ATTACH;FMTTYPE=image/png:https://melaniesmithtaylor.com/wp-content/uploads/2016/07/American-Gold-Cup.png
END:VEVENT
BEGIN:VEVENT
DTSTART;VALUE=DATE:20160805
DTEND;VALUE=DATE:20160822
DTSTAMP:20260421T043045
CREATED:20160217T011656Z
LAST-MODIFIED:20160710T044926Z
UID:12891-1470355200-1471823999@melaniesmithtaylor.com
SUMMARY:Rio Olympic Games — Color Commentary
DESCRIPTION:NBC Color Commentator for the Rio Olympic Games
URL:https://melaniesmithtaylor.com/calendar-2/rio-olympic-games-color-commentary/
LOCATION:NBC
CATEGORIES:TV Appearances
END:VEVENT
BEGIN:VEVENT
DTSTART;VALUE=DATE:20160607
DTEND;VALUE=DATE:20160612
DTSTAMP:20260421T043045
CREATED:20160228T095545Z
LAST-MODIFIED:20160301T063349Z
UID:13179-1465257600-1465689599@melaniesmithtaylor.com
SUMMARY:The Germantown Charity Horse Show
DESCRIPTION:Melanie will provide color commentary for the Germantown Grand Prix\, meet friends and sign copies of her new book.
URL:https://melaniesmithtaylor.com/calendar-2/the-germantown-charity-horse-show/
LOCATION:Germantown Charity Horse Show Grounds\, 7745 Poplar Pike\, Germantown\, TN\, 38138\, United States
CATEGORIES:Book Signings,Color Commentary
END:VEVENT
BEGIN:VEVENT
DTSTART;TZID=America/New_York:20160508T133000
DTEND;TZID=America/New_York:20160508T150000
DTSTAMP:20260421T043045
CREATED:20160411T030631Z
LAST-MODIFIED:20160411T030631Z
UID:13524-1462714200-1462719600@melaniesmithtaylor.com
SUMMARY:Rolex Kentucky Three Day Event - airing on NBC Sports
DESCRIPTION:Melanie’s color commentary for the Rolex Three Day Event airs on NBC Sports May 8th\, 1:30 – 3:00 PM EDT.
URL:https://melaniesmithtaylor.com/calendar-2/rolex-kentucky-three-day-event-airing-on-nbc-sports/
LOCATION:NBC Sports
END:VEVENT
BEGIN:VEVENT
DTSTART;VALUE=DATE:20160507
DTEND;VALUE=DATE:20160508
DTSTAMP:20260421T043045
CREATED:20160217T010750Z
LAST-MODIFIED:20160217T010750Z
UID:12885-1462579200-1462665599@melaniesmithtaylor.com
SUMMARY:International Omaha Horse Show
DESCRIPTION:Color Commentator for the International Omaha Horse Show\, Omaha\, Nebraska
URL:https://melaniesmithtaylor.com/calendar-2/international-omaha-horse-show/
LOCATION:CenturyLink Center\, 455 N. 10th St\, Omaha\, NE\, 68102\, United States
CATEGORIES:TV Appearances
ATTACH;FMTTYPE=image/jpeg:https://melaniesmithtaylor.com/wp-content/uploads/2016/02/International-Omaha.jpg
END:VEVENT
BEGIN:VEVENT
DTSTART;VALUE=DATE:20160429
DTEND;VALUE=DATE:20160502
DTSTAMP:20260421T043045
CREATED:20160214T160825Z
LAST-MODIFIED:20160411T025256Z
UID:12869-1461888000-1462147199@melaniesmithtaylor.com
SUMMARY:Rolex Kentucky Three-Day Event
DESCRIPTION:Melanie will be providing color commentary for the Rolex Kentucky Three-Day Event airing on NBC Sports May 8\, 1:30 – 3:00 PM EDT
URL:https://melaniesmithtaylor.com/calendar-2/rolex-kentucky-three-day-event/
LOCATION:Lexington Horse Park\, 4089 Iron Works Pike\, Lexington\, KY\, 40511\, United States
CATEGORIES:Color Commentary,TV Appearances
END:VEVENT
BEGIN:VEVENT
DTSTART;VALUE=DATE:20160426
DTEND;VALUE=DATE:20160427
DTSTAMP:20260421T043045
CREATED:20160217T005655Z
LAST-MODIFIED:20160217T005953Z
UID:12880-1461628800-1461715199@melaniesmithtaylor.com
SUMMARY:Melanie Smith Taylor Clinic - Corning\, California
DESCRIPTION:Following Buck Brannaman’s clinic\, Rolling Hills Equestrian Center
URL:https://melaniesmithtaylor.com/calendar-2/melanie-smith-taylor-clinic-corning-california/
LOCATION:Rolling Hills Equestrian Center\, 2655 Everett Freeman Way\, Corning\, 96021
CATEGORIES:Equestrian Clinics
END:VEVENT
BEGIN:VEVENT
DTSTART;VALUE=DATE:20160423
DTEND;VALUE=DATE:20160425
DTSTAMP:20260421T043045
CREATED:20160217T010215Z
LAST-MODIFIED:20160410T021957Z
UID:12883-1461369600-1461542399@melaniesmithtaylor.com
SUMMARY:Melanie Smith Taylor Clinic - Portland\, Oregon
DESCRIPTION:
URL:https://melaniesmithtaylor.com/calendar-2/melanie-smith-taylor-clinic-portland-oregon/
LOCATION:Brawley Farms Inc.\, 4556 Wintercreek Rd SE\, Jefferson\, OR\, 97352\, United States
CATEGORIES:Equestrian Clinics
ORGANIZER;CN="Debbie Brawley":MAILTO:dbrawley1962@yahoo.com
END:VEVENT
BEGIN:VEVENT
DTSTART;TZID=America/Los_Angeles:20160422T160000
DTEND;TZID=America/Los_Angeles:20160422T190000
DTSTAMP:20260421T043045
CREATED:20160410T023531Z
LAST-MODIFIED:20160410T023531Z
UID:13513-1461340800-1461351600@melaniesmithtaylor.com
SUMMARY:Melanie Smith Taylor - Book Signing - Tigard\, Oregon
DESCRIPTION:Meet Melanie at her book signing hosted by Gallops Saddlery.
URL:https://melaniesmithtaylor.com/calendar-2/melanie-smith-taylor-book-signing-tigard-oregon/
LOCATION:Gallops Saddlery\, 17937 SW McEwan Rd\, Tigard\, OR\, 97224\, United States
END:VEVENT
BEGIN:VEVENT
DTSTART;TZID=America/New_York:20160411T180000
DTEND;TZID=America/New_York:20160411T193000
DTSTAMP:20260421T043045
CREATED:20160410T223050Z
LAST-MODIFIED:20160411T024006Z
UID:13519-1460397600-1460403000@melaniesmithtaylor.com
SUMMARY:Longines Global Champions Tour – Grand Prix - Miami Beach
DESCRIPTION:Watch the $500\,000 GCT Grand Pix with color commentary by Melanie Smith Taylor airing on Fox Sports 2 at 6:00 PM Monday\, April 11th.
URL:https://melaniesmithtaylor.com/calendar-2/longines-global-champions-tour-grand-prix-miami-beach/
END:VEVENT
BEGIN:VEVENT
DTSTART;TZID=America/Chicago:20160409T140000
DTEND;TZID=America/Chicago:20160409T150000
DTSTAMP:20260421T043045
CREATED:20160214T155203Z
LAST-MODIFIED:20160315T002051Z
UID:12865-1460210400-1460214000@melaniesmithtaylor.com
SUMMARY:$500\,000 Rolex Grand Prix CSI 5*\, Winter Equestrian Festival - Week 12
DESCRIPTION:$500\,000 Rolex Prix CSI 5*\, Winter Equestrian Festival – Week 12\, NBC Color Commentary\, airing on NBC Sports April 9\, 2:00 – 3:00 PM EDT
URL:https://melaniesmithtaylor.com/calendar-2/rolex-grand-prix-csi-5-winter-equestrian-festival-week-12/
LOCATION:NBC Sports
CATEGORIES:TV Appearances
END:VEVENT
BEGIN:VEVENT
DTSTART;VALUE=DATE:20160407
DTEND;VALUE=DATE:20160410
DTSTAMP:20260421T043045
CREATED:20160227T224152Z
LAST-MODIFIED:20160229T224337Z
UID:13169-1459987200-1460246399@melaniesmithtaylor.com
SUMMARY:Longines Global Champions Tour - Miami Beach
DESCRIPTION:Miami Beach will once more be the thrilling launch destination for the 2016 LONGINES GLOBAL CHAMPIONS TOUR\, with the revolutionary Global Champions League also making its debut at this stunning destination. The world’s foremost show jumping series returns to the US continent bringing Olympic-level sport to the world-famous Miami Beach location on America’s East Coast.  Melanie Smith Taylor will be the co-commentator for global online streaming for the American Invitational Friday night and the Longines GCT  Grand Prix Saturday.
URL:https://melaniesmithtaylor.com/calendar-2/longines-global-champions-tour-miami-beach/
LOCATION:Miami Beach\, Miami Beach\, FL\, United States
CATEGORIES:Color Commentary,TV Appearances
END:VEVENT
BEGIN:VEVENT
DTSTART;TZID=America/Chicago:20160312T160000
DTEND;TZID=America/Chicago:20160312T170000
DTSTAMP:20260421T043045
CREATED:20160214T153731Z
LAST-MODIFIED:20160311T233644Z
UID:12856-1457798400-1457802000@melaniesmithtaylor.com
SUMMARY:$380\,000 Suncast Grand Prix CSI 5*\, Winter Equestrian Festival - Week 7
DESCRIPTION:$380\,000 Suncast Grand Prix CSI 5*\, Winter Equestrian Festival – Week 7\, NBC Color Commentary\, airing on NBC Sports March 12\, 4:00 – 5:00 PM CST
URL:https://melaniesmithtaylor.com/calendar-2/suncast-grand-prix-csi-5-winter-equestrian-festival/
LOCATION:NBC Sports
CATEGORIES:TV Appearances
ATTACH;FMTTYPE=image/jpeg:https://melaniesmithtaylor.com/wp-content/uploads/2016/02/melanie-on-nbc.jpg
END:VEVENT
END:VCALENDAR